BEGIN:VCALENDAR
VERSION:2.0
PRODID:-//RISE at Nocatee 55+ - ECPv6.15.17//NONSGML v1.0//EN
CALSCALE:GREGORIAN
METHOD:PUBLISH
X-ORIGINAL-URL:https://risepontevedra.com
X-WR-CALDESC:Events for RISE at Nocatee 55+
REFRESH-INTERVAL;VALUE=DURATION:PT1H
X-Robots-Tag:noindex
X-PUBLISHED-TTL:PT1H
BEGIN:VTIMEZONE
TZID:UTC
BEGIN:STANDARD
TZOFFSETFROM:+0000
TZOFFSETTO:+0000
TZNAME:UTC
DTSTART:20230101T000000
END:STANDARD
END:VTIMEZONE
BEGIN:VEVENT
DTSTART;TZID=UTC:20240328T150000
DTEND;TZID=UTC:20240328T180000
DTSTAMP:20260419T215112
CREATED:20240313T185425Z
LAST-MODIFIED:20240313T185425Z
UID:5666930-1711638000-1711648800@risepontevedra.com
SUMMARY:Happy Hour
DESCRIPTION:Join us for Happy Hour drinks & Food!
URL:https://risepontevedra.com/event/happy-hour/
LOCATION:South Kitchen & Spirits\, 150 Pine Lake Dr Ste A\, Ponte Vedra Beach\, FL\, 32081\, United States
ATTACH;FMTTYPE=image/jpeg:https://risepontevedra.com/wp-content/uploads/2024/03/Happy-Hour-Cover-scaled.jpg
ORGANIZER;CN="RISE at Nocatee":MAILTO:live@risepontevedra.com
END:VEVENT
END:VCALENDAR