BEGIN:VCALENDAR
VERSION:2.0
PRODID:-//RISE at Nocatee 55+ - ECPv6.15.17//NONSGML v1.0//EN
CALSCALE:GREGORIAN
METHOD:PUBLISH
X-WR-CALNAME:RISE at Nocatee 55+
X-ORIGINAL-URL:https://risepontevedra.com
X-WR-CALDESC:Events for RISE at Nocatee 55+
REFRESH-INTERVAL;VALUE=DURATION:PT1H
X-Robots-Tag:noindex
X-PUBLISHED-TTL:PT1H
BEGIN:VTIMEZONE
TZID:America/Halifax
BEGIN:DAYLIGHT
TZOFFSETFROM:-0400
TZOFFSETTO:-0300
TZNAME:ADT
DTSTART:20230312T060000
END:DAYLIGHT
BEGIN:STANDARD
TZOFFSETFROM:-0300
TZOFFSETTO:-0400
TZNAME:AST
DTSTART:20231105T050000
END:STANDARD
BEGIN:DAYLIGHT
TZOFFSETFROM:-0400
TZOFFSETTO:-0300
TZNAME:ADT
DTSTART:20240310T060000
END:DAYLIGHT
BEGIN:STANDARD
TZOFFSETFROM:-0300
TZOFFSETTO:-0400
TZNAME:AST
DTSTART:20241103T050000
END:STANDARD
BEGIN:DAYLIGHT
TZOFFSETFROM:-0400
TZOFFSETTO:-0300
TZNAME:ADT
DTSTART:20250309T060000
END:DAYLIGHT
BEGIN:STANDARD
TZOFFSETFROM:-0300
TZOFFSETTO:-0400
TZNAME:AST
DTSTART:20251102T050000
END:STANDARD
END:VTIMEZONE
BEGIN:VEVENT
DTSTART;TZID=America/Halifax:20240919T160000
DTEND;TZID=America/Halifax:20240919T180000
DTSTAMP:20260419T132934
CREATED:20240829T234328Z
LAST-MODIFIED:20240904T003543Z
UID:5667370-1726761600-1726768800@risepontevedra.com
SUMMARY:Resident Meet & Greet
DESCRIPTION:RSVP by 9/17 to live@risepontevedra.com or (904) 395-7065
URL:https://risepontevedra.com/event/resident-meet-greet/
LOCATION:RISE at Nocatee\, 1200 Preservation Trail\, Ponte Vedra Beach\, FL\, 32081\, United States
ATTACH;FMTTYPE=image/jpeg:https://risepontevedra.com/wp-content/uploads/2024/08/Resident-Meet-Greet_Cover-scaled.jpg
END:VEVENT
END:VCALENDAR