BEGIN:VCALENDAR
VERSION:2.0
PRODID:-//RISE at Nocatee 55+ - ECPv6.15.17//NONSGML v1.0//EN
CALSCALE:GREGORIAN
METHOD:PUBLISH
X-WR-CALNAME:RISE at Nocatee 55+
X-ORIGINAL-URL:https://risepontevedra.com
X-WR-CALDESC:Events for RISE at Nocatee 55+
REFRESH-INTERVAL;VALUE=DURATION:PT1H
X-Robots-Tag:noindex
X-PUBLISHED-TTL:PT1H
BEGIN:VTIMEZONE
TZID:America/New_York
BEGIN:DAYLIGHT
TZOFFSETFROM:-0500
TZOFFSETTO:-0400
TZNAME:EDT
DTSTART:20250309T070000
END:DAYLIGHT
BEGIN:STANDARD
TZOFFSETFROM:-0400
TZOFFSETTO:-0500
TZNAME:EST
DTSTART:20251102T060000
END:STANDARD
BEGIN:DAYLIGHT
TZOFFSETFROM:-0500
TZOFFSETTO:-0400
TZNAME:EDT
DTSTART:20260308T070000
END:DAYLIGHT
BEGIN:STANDARD
TZOFFSETFROM:-0400
TZOFFSETTO:-0500
TZNAME:EST
DTSTART:20261101T060000
END:STANDARD
BEGIN:DAYLIGHT
TZOFFSETFROM:-0500
TZOFFSETTO:-0400
TZNAME:EDT
DTSTART:20270314T070000
END:DAYLIGHT
BEGIN:STANDARD
TZOFFSETFROM:-0400
TZOFFSETTO:-0500
TZNAME:EST
DTSTART:20271107T060000
END:STANDARD
END:VTIMEZONE
BEGIN:VEVENT
DTSTART;TZID=America/New_York:20260426T140000
DTEND;TZID=America/New_York:20260426T140000
DTSTAMP:20260422T180915
CREATED:20260326T022751Z
LAST-MODIFIED:20260326T022751Z
UID:5669066-1777212000-1777212000@risepontevedra.com
SUMMARY:Rummikub/Cards
DESCRIPTION:04/26/2026
URL:https://risepontevedra.com/event/rummikub-cards-8/
END:VEVENT
BEGIN:VEVENT
DTSTART;TZID=America/New_York:20260426T160000
DTEND;TZID=America/New_York:20260426T160000
DTSTAMP:20260422T180915
CREATED:20260326T022751Z
LAST-MODIFIED:20260326T022751Z
UID:5669067-1777219200-1777219200@risepontevedra.com
SUMMARY:Bike Club
DESCRIPTION:04/26/2026
URL:https://risepontevedra.com/event/bike-club-43/
END:VEVENT
BEGIN:VEVENT
DTSTART;TZID=America/New_York:20260427T130000
DTEND;TZID=America/New_York:20260427T130000
DTSTAMP:20260422T180915
CREATED:20260326T022751Z
LAST-MODIFIED:20260326T022751Z
UID:5669068-1777294800-1777294800@risepontevedra.com
SUMMARY:Liverpool Rummy/ Samba
DESCRIPTION:04/27/2026
URL:https://risepontevedra.com/event/liverpool-rummy-samba-21/
END:VEVENT
BEGIN:VEVENT
DTSTART;TZID=America/New_York:20260427T180000
DTEND;TZID=America/New_York:20260427T180000
DTSTAMP:20260422T180915
CREATED:20260326T022951Z
LAST-MODIFIED:20260326T022951Z
UID:5669069-1777312800-1777312800@risepontevedra.com
SUMMARY:Music Games
DESCRIPTION:04/27/2026
URL:https://risepontevedra.com/event/music-games-10/
END:VEVENT
BEGIN:VEVENT
DTSTART;TZID=America/New_York:20260428T100000
DTEND;TZID=America/New_York:20260428T100000
DTSTAMP:20260422T180915
CREATED:20260326T022951Z
LAST-MODIFIED:20260326T022951Z
UID:5669070-1777370400-1777370400@risepontevedra.com
SUMMARY:Coffee Chat
DESCRIPTION:04/28/2026
URL:https://risepontevedra.com/event/coffee-chat-38/
END:VEVENT
BEGIN:VEVENT
DTSTART;TZID=America/New_York:20260428T130000
DTEND;TZID=America/New_York:20260428T130000
DTSTAMP:20260422T180915
CREATED:20260326T022952Z
LAST-MODIFIED:20260326T022952Z
UID:5669071-1777381200-1777381200@risepontevedra.com
SUMMARY:Mexican Train
DESCRIPTION:04/28/2026
URL:https://risepontevedra.com/event/mexican-train-17/
END:VEVENT
BEGIN:VEVENT
DTSTART;TZID=America/New_York:20260429T110000
DTEND;TZID=America/New_York:20260429T110000
DTSTAMP:20260422T180915
CREATED:20260326T022952Z
LAST-MODIFIED:20260326T022952Z
UID:5669072-1777460400-1777460400@risepontevedra.com
SUMMARY:Aqua Aerobics
DESCRIPTION:04/29/2026
URL:https://risepontevedra.com/event/aqua-aerobics-27/
END:VEVENT
BEGIN:VEVENT
DTSTART;TZID=America/New_York:20260429T130000
DTEND;TZID=America/New_York:20260429T130000
DTSTAMP:20260422T180915
CREATED:20260326T022952Z
LAST-MODIFIED:20260326T022952Z
UID:5669073-1777467600-1777467600@risepontevedra.com
SUMMARY:Mah Jongg/Cards
DESCRIPTION:04/29/2026
URL:https://risepontevedra.com/event/mah-jongg-cards-6/
END:VEVENT
BEGIN:VEVENT
DTSTART;TZID=America/New_York:20260429T180000
DTEND;TZID=America/New_York:20260429T180000
DTSTAMP:20260422T180915
CREATED:20260326T023032Z
LAST-MODIFIED:20260326T023032Z
UID:5669074-1777485600-1777485600@risepontevedra.com
SUMMARY:Music Games
DESCRIPTION:04/29/2026
URL:https://risepontevedra.com/event/music-games-11/
END:VEVENT
BEGIN:VEVENT
DTSTART;TZID=America/New_York:20260430T130000
DTEND;TZID=America/New_York:20260430T130000
DTSTAMP:20260422T180915
CREATED:20260326T023033Z
LAST-MODIFIED:20260326T023033Z
UID:5669075-1777554000-1777554000@risepontevedra.com
SUMMARY:Jokers & Marbles
DESCRIPTION:04/30/2026
URL:https://risepontevedra.com/event/jokers-marbles-11/
END:VEVENT
BEGIN:VEVENT
DTSTART;TZID=America/New_York:20260430T173000
DTEND;TZID=America/New_York:20260430T173000
DTSTAMP:20260422T180915
CREATED:20260326T023033Z
LAST-MODIFIED:20260326T023033Z
UID:5669076-1777570200-1777570200@risepontevedra.com
SUMMARY:Mix & Mingle/ Birthday Party
DESCRIPTION:04/30/2026
URL:https://risepontevedra.com/event/mix-mingle-birthday-party/
END:VEVENT
BEGIN:VEVENT
DTSTART;TZID=America/New_York:20260505T173000
DTEND;TZID=America/New_York:20260505T193000
DTSTAMP:20260422T180915
CREATED:20260422T140052Z
LAST-MODIFIED:20260422T140052Z
UID:5669094-1778002200-1778009400@risepontevedra.com
SUMMARY:Cinco de Mayo
DESCRIPTION:RSVP to (904) 341-5243 or complete the form below. \n		\n				\n					\n				\n				\n					RSVP				\n				\n				\n				\n									Secure your spot at this and other future events by completing the form below. 								\n				\n				\n				\n							\n			\n			\n			\n\n			\n			\n								\n					Contact Information				\n								\n												\n								Name							\n														\n											\n								\n												\n								Phone							\n								\n\n						\n								\n												\n								Email							\n														\n											\n								\n					Select Event(s):				\n								\n							\n			\n							\n			\n									Thursday\, January 1 - Happy New Year!\n									Friday\, January 2 - Silver Sneakers\n									Friday\, January 2 - Liverpool Rummy/Samba\n									Saturday\, January 3 - Walking Club\n									Sunday\, January 4 - Rummikub\n									Sunday\, January 4 - Bike Club\n									Monday\, January 5 - Coffee Chat\n									Monday\, January 5 - Yahtzee\n									Tuesday\, January 6 - Strength Class\n									Tuesday\, January 6 - Liverpool Rummy\n									Wednesday\, January 7 - Book Club\n									Wednesday\, January 7 - Stretch Class\n									Wednesday\, January 7 - Mah Jongg\n									Thursday\, January 8 - Liverpool Rummy/Samba\n									Thursday\, January 8 - BINGO & BEVERAGES\n									Friday\, January 9 - Silver Sneakers\n									Friday\, January 9 - Rummikub\n									Saturday\, January 10 - Walking Club\n									Sunday\, January 11 - Rummikub\n									Sunday\, January 11 - Bike Club\n									Monday\, January 12 - Coffee Chat\n									Monday\, January 12 - Craft Class\n									Tuesday\, January 13 - Strength Class\n									Tuesday\, January 13 - "NEW YOU" Fitness Demo\n									Wednesday\, January 14 - Stretch Class\n									Wednesday\, January 14 - Mah Jongg\n									Wednesday\, January 14 - Cornhole\n									Thursday\, January 15 - Yahtzee/Liverpool Rummy\n									Thursday\, January 15 - Thrive 55+ Mtg\n									Friday\, January 16 - Silver Sneakers\n									Friday\, January 16 - Liverpool Rummy/Samba\n									Saturday\, January 17 - Walking Club\n									Saturday\, January 17 - LUNCH at PUSSER'S\n									Sunday\, January 18 - Rummikub\n									Sunday\, January 18 - Bike Club\n									Monday\, January 19 - Coffee Chat\n									Monday\, January 19 - SKYJO\n									Tuesday\, January 20 - Strength Class\n									Tuesday\, January 20 - Bunco\n									Wednesday\, January 21 - Stretch Class\n									Wednesday\, January 21 - Mah Jongg\n									Thursday\, January 22 - Liverpool Rummy/Samba\n									Thursday\, January 22 - POKER NIGHT\n									Friday\, January 23 - Silver Sneakers\n									Friday\, January 23 - Rummikub\n									Saturday\, January 24 - Walking Club\n									Sunday\, January 25 - Rummikub\n									Sunday\, January 25 - Bike Club\n									Monday\, January 26 - Coffee Chat\n									Monday\, January 26 - Yahtzee\n									Tuesday\, January 27 - Strength Class\n									Tuesday\, January 27 - Skyjo\n									Wednesday\, January 28 - Stretch Class\n									Wednesday\, January 28 - Mah Jongg\n									Wednesday\, January 28 - Cornhole\n									Thursday\, January 29 - Bunco\n									Thursday\, January 29 - SIP & PAINT\n									Friday\, January 30 - Silver Sneakers\n									Friday\, January 30 - Liverpool Rummy/Samba\n									Saturday\, January 31 - Walking Club\n							\n		\n						\n								\n					\n						\n																						submit ⟶
URL:https://risepontevedra.com/event/cinco-de-mayo/
ATTACH;FMTTYPE=image/png:https://risepontevedra.com/wp-content/uploads/2026/04/APR26-Cinco-de-Mayo-web-1920-x-1080.png
END:VEVENT
END:VCALENDAR