BEGIN:VCALENDAR
VERSION:2.0
PRODID:-//RISE at Nocatee 55+ - ECPv6.15.17//NONSGML v1.0//EN
CALSCALE:GREGORIAN
METHOD:PUBLISH
X-WR-CALNAME:RISE at Nocatee 55+
X-ORIGINAL-URL:https://risepontevedra.com
X-WR-CALDESC:Events for RISE at Nocatee 55+
REFRESH-INTERVAL;VALUE=DURATION:PT1H
X-Robots-Tag:noindex
X-PUBLISHED-TTL:PT1H
BEGIN:VTIMEZONE
TZID:America/Halifax
BEGIN:DAYLIGHT
TZOFFSETFROM:-0400
TZOFFSETTO:-0300
TZNAME:ADT
DTSTART:20230312T060000
END:DAYLIGHT
BEGIN:STANDARD
TZOFFSETFROM:-0300
TZOFFSETTO:-0400
TZNAME:AST
DTSTART:20231105T050000
END:STANDARD
BEGIN:DAYLIGHT
TZOFFSETFROM:-0400
TZOFFSETTO:-0300
TZNAME:ADT
DTSTART:20240310T060000
END:DAYLIGHT
BEGIN:STANDARD
TZOFFSETFROM:-0300
TZOFFSETTO:-0400
TZNAME:AST
DTSTART:20241103T050000
END:STANDARD
BEGIN:DAYLIGHT
TZOFFSETFROM:-0400
TZOFFSETTO:-0300
TZNAME:ADT
DTSTART:20250309T060000
END:DAYLIGHT
BEGIN:STANDARD
TZOFFSETFROM:-0300
TZOFFSETTO:-0400
TZNAME:AST
DTSTART:20251102T050000
END:STANDARD
END:VTIMEZONE
BEGIN:VEVENT
DTSTART;TZID=America/Halifax:20240613T173000
DTEND;TZID=America/Halifax:20240613T193000
DTSTAMP:20260419T162907
CREATED:20240607T173833Z
LAST-MODIFIED:20240607T212326Z
UID:5667103-1718299800-1718307000@risepontevedra.com
SUMMARY:Wine Tasting
DESCRIPTION:RSVP to live@risepontevedra.com or (904) 395-7065 \n 
URL:https://risepontevedra.com/event/wine-tasting/
LOCATION:RISE at Nocatee\, 1200 Preservation Trail\, Ponte Vedra Beach\, FL\, 32081\, United States
ATTACH;FMTTYPE=image/jpeg:https://risepontevedra.com/wp-content/uploads/2024/06/Wine-Tasting-Cover.jpg
END:VEVENT
BEGIN:VEVENT
DTSTART;TZID=America/Halifax:20240626T090000
DTEND;TZID=America/Halifax:20240626T110000
DTSTAMP:20260419T162907
CREATED:20240618T021738Z
LAST-MODIFIED:20240618T021839Z
UID:5667137-1719392400-1719399600@risepontevedra.com
SUMMARY:Calling All Realtors: Grounds For Discussion
DESCRIPTION:Join us to learn more about RISE at Nocatee. \nRSVP by 6/24 to live@risepontevedra.com or (904) 395-7065 \n 
URL:https://risepontevedra.com/event/calling-all-realtors-grounds-for-discussion/
LOCATION:RISE at Nocatee\, 1200 Preservation Trail\, Ponte Vedra Beach\, FL\, 32081\, United States
ATTACH;FMTTYPE=image/jpeg:https://risepontevedra.com/wp-content/uploads/2024/06/Grounds-For-Discussion_Cover-scaled.jpg
END:VEVENT
END:VCALENDAR