BEGIN:VCALENDAR
VERSION:2.0
PRODID:-//RISE at Nocatee 55+ - ECPv6.15.17//NONSGML v1.0//EN
CALSCALE:GREGORIAN
METHOD:PUBLISH
X-WR-CALNAME:RISE at Nocatee 55+
X-ORIGINAL-URL:https://risepontevedra.com
X-WR-CALDESC:Events for RISE at Nocatee 55+
REFRESH-INTERVAL;VALUE=DURATION:PT1H
X-Robots-Tag:noindex
X-PUBLISHED-TTL:PT1H
BEGIN:VTIMEZONE
TZID:America/Halifax
BEGIN:DAYLIGHT
TZOFFSETFROM:-0400
TZOFFSETTO:-0300
TZNAME:ADT
DTSTART:20230312T060000
END:DAYLIGHT
BEGIN:STANDARD
TZOFFSETFROM:-0300
TZOFFSETTO:-0400
TZNAME:AST
DTSTART:20231105T050000
END:STANDARD
BEGIN:DAYLIGHT
TZOFFSETFROM:-0400
TZOFFSETTO:-0300
TZNAME:ADT
DTSTART:20240310T060000
END:DAYLIGHT
BEGIN:STANDARD
TZOFFSETFROM:-0300
TZOFFSETTO:-0400
TZNAME:AST
DTSTART:20241103T050000
END:STANDARD
BEGIN:DAYLIGHT
TZOFFSETFROM:-0400
TZOFFSETTO:-0300
TZNAME:ADT
DTSTART:20250309T060000
END:DAYLIGHT
BEGIN:STANDARD
TZOFFSETFROM:-0300
TZOFFSETTO:-0400
TZNAME:AST
DTSTART:20251102T050000
END:STANDARD
END:VTIMEZONE
BEGIN:VEVENT
DTSTART;TZID=America/Halifax:20240711T160000
DTEND;TZID=America/Halifax:20240711T180000
DTSTAMP:20260419T145203
CREATED:20240701T224105Z
LAST-MODIFIED:20240701T224105Z
UID:5667156-1720713600-1720720800@risepontevedra.com
SUMMARY:Happy Hour
DESCRIPTION:RSVP by 7/8 to live@risepontevedra.com or (904) 395-7065
URL:https://risepontevedra.com/event/happy-hour-2/
LOCATION:RISE at Nocatee\, 1200 Preservation Trail\, Ponte Vedra Beach\, FL\, 32081\, United States
ATTACH;FMTTYPE=image/jpeg:https://risepontevedra.com/wp-content/uploads/2024/07/Happy-Hour-July-03-scaled.jpg
END:VEVENT
BEGIN:VEVENT
DTSTART;TZID=America/Halifax:20240725T160000
DTEND;TZID=America/Halifax:20240725T180000
DTSTAMP:20260419T145203
CREATED:20240702T002602Z
LAST-MODIFIED:20240702T005419Z
UID:5667159-1721923200-1721930400@risepontevedra.com
SUMMARY:Open House & Happy Hour
DESCRIPTION:RSVP by 7/19 to live@risepontevedra.com or (904) 395-7065
URL:https://risepontevedra.com/event/open-house-happy-hour/
LOCATION:RISE at Nocatee\, 1200 Preservation Trail\, Ponte Vedra Beach\, FL\, 32081\, United States
ATTACH;FMTTYPE=image/jpeg:https://risepontevedra.com/wp-content/uploads/2024/07/Open-House_Cover-scaled.jpg
END:VEVENT
END:VCALENDAR